BEGIN:VCALENDAR
VERSION:2.0
PRODID:-//Wurzeltrieb-Kollektiv Berchtesgaden - ECPv6.15.20//NONSGML v1.0//EN
CALSCALE:GREGORIAN
METHOD:PUBLISH
X-ORIGINAL-URL:https://wurzeltrieb.de
X-WR-CALDESC:Veranstaltungen für Wurzeltrieb-Kollektiv Berchtesgaden
REFRESH-INTERVAL;VALUE=DURATION:PT1H
X-Robots-Tag:noindex
X-PUBLISHED-TTL:PT1H
BEGIN:VTIMEZONE
TZID:Europe/Berlin
BEGIN:DAYLIGHT
TZOFFSETFROM:+0100
TZOFFSETTO:+0200
TZNAME:CEST
DTSTART:20230326T010000
END:DAYLIGHT
BEGIN:STANDARD
TZOFFSETFROM:+0200
TZOFFSETTO:+0100
TZNAME:CET
DTSTART:20231029T010000
END:STANDARD
BEGIN:DAYLIGHT
TZOFFSETFROM:+0100
TZOFFSETTO:+0200
TZNAME:CEST
DTSTART:20240331T010000
END:DAYLIGHT
BEGIN:STANDARD
TZOFFSETFROM:+0200
TZOFFSETTO:+0100
TZNAME:CET
DTSTART:20241027T010000
END:STANDARD
BEGIN:DAYLIGHT
TZOFFSETFROM:+0100
TZOFFSETTO:+0200
TZNAME:CEST
DTSTART:20250330T010000
END:DAYLIGHT
BEGIN:STANDARD
TZOFFSETFROM:+0200
TZOFFSETTO:+0100
TZNAME:CET
DTSTART:20251026T010000
END:STANDARD
BEGIN:DAYLIGHT
TZOFFSETFROM:+0100
TZOFFSETTO:+0200
TZNAME:CEST
DTSTART:20260329T010000
END:DAYLIGHT
BEGIN:STANDARD
TZOFFSETFROM:+0200
TZOFFSETTO:+0100
TZNAME:CET
DTSTART:20261025T010000
END:STANDARD
BEGIN:DAYLIGHT
TZOFFSETFROM:+0100
TZOFFSETTO:+0200
TZNAME:CEST
DTSTART:20270328T010000
END:DAYLIGHT
BEGIN:STANDARD
TZOFFSETFROM:+0200
TZOFFSETTO:+0100
TZNAME:CET
DTSTART:20271031T010000
END:STANDARD
END:VTIMEZONE
BEGIN:VEVENT
DTSTART;TZID=Europe/Berlin:20260227T190000
DTEND;TZID=Europe/Berlin:20260228T235900
DTSTAMP:20260421T154750
CREATED:20260120T225104Z
LAST-MODIFIED:20260125T140018Z
UID:841-1772218800-1772323140@wurzeltrieb.de
SUMMARY:Aktionstage zum internationalen Weltfrauen*tag 2026
DESCRIPTION:Mehr Informationen zur Veranstaltung und die Anmeldung findest Du hier!
URL:https://wurzeltrieb.de/veranstaltung/aktionstage-zum-internationalen-weltfrauentag-2025/
LOCATION:Mittelschule Bischofswiesen\, Rathausplatz 4\, Bischofswiesen\, Bayern\, 83483\, Germany
END:VEVENT
BEGIN:VEVENT
DTSTART;TZID=Europe/Berlin:20250619T170000
DTEND;TZID=Europe/Berlin:20250619T220000
DTSTAMP:20260421T154750
CREATED:20250618T195714Z
LAST-MODIFIED:20250618T195714Z
UID:986-1750352400-1750370400@wurzeltrieb.de
SUMMARY:10. Open Stage im Schornbad Schönau
DESCRIPTION:Wir haben was zu feiern! ✨🥳 \nVor ca. drei Jahren haben wir unserem Traum von einer Open Stage in Berchtesgaden das erste Mal Raum (und Bühne) gegeben – und wir haben immer noch richtig Lust drauf! \nAm 19. Juni geht’s in die 10. Runde – und zwar unter freiem Himmel! Wir und das Team von @aufdhand.berchtesgaden laden euch ein zur ersten Outdoor Open Stage im Schornbad in der Schönau! Kommt vorbei und feiert mit uns die Freude am Ausprobieren\, Musizieren\, Dichten\, Spielen und was euch sonst noch inspiriert. \nWir freuen uns auf bekannte und neue Gesichter und schöne Momente mit euch allen! \nPublikum muss sich nicht anmelden\, einfach kommen. Eintritt frei\, auf Spendenbasis. \nEinlass 17:00\nBeginn 18:00
URL:https://wurzeltrieb.de/veranstaltung/10-open-stage-im-schornbad-schoenau/
LOCATION:Schornbad Schönau am Königsee\, Schornstraße 7\, Schönau am Königsee\, Bayern\, Deutschland
END:VEVENT
BEGIN:VEVENT
DTSTART;TZID=Europe/Berlin:20250308T180000
DTEND;TZID=Europe/Berlin:20250308T230000
DTSTAMP:20260421T154750
CREATED:20250216T191655Z
LAST-MODIFIED:20250216T191655Z
UID:907-1741456800-1741474800@wurzeltrieb.de
SUMMARY:Open Stage
DESCRIPTION:Du willst deine Leidenschaft für 15min. auf der Bühne zeigen? Dann melde dich zu unserer 9. Open Stage im Rahmen des Weltfrauen*tags an! Schreib uns deinen Namen und Vorhaben kurz unter wurzeltrieb.de/weltfrauentag \nEinlass: 18:00 Uhr \nBeginn: 19:00 Uhr \n 
URL:https://wurzeltrieb.de/veranstaltung/open-stage/
LOCATION:Mittelschule Bischofswiesen\, Rathausplatz 4\, Bischofswiesen\, Bayern\, 83483\, Germany
END:VEVENT
BEGIN:VEVENT
DTSTART;TZID=Europe/Berlin:20250307T140000
DTEND;TZID=Europe/Berlin:20250308T223000
DTSTAMP:20260421T154750
CREATED:20250209T165902Z
LAST-MODIFIED:20250209T165902Z
UID:876-1741356000-1741473000@wurzeltrieb.de
SUMMARY:Aktionstage zum internationalen Weltfrauen*tag
DESCRIPTION:Am 7. und 8. März 2025 feiern wir in der Mittelschule in Bischofswiesen die bereits dritten Aktionstage zum internationalen Weltfrauentag. Geplant ist ein vielfältiges Programm mit kostenlosen Workshops\, Ausstellungen\, Raum für Vernetzung\, Filmvorführungen\, Mosaikkunst\, Siebdruck und einer Open Stage am 8. März als Abschluss. Mehr zum Programm findest Du hier unter wurzeltrieb.de/weltfrauentag
URL:https://wurzeltrieb.de/veranstaltung/aktionstage-zum-internationalen-weltfrauentag/
LOCATION:Mittelschule Bischofswiesen\, Rathausplatz 4\, Bischofswiesen\, Bayern\, 83483\, Germany
END:VEVENT
BEGIN:VEVENT
DTSTART;TZID=Europe/Berlin:20241210T180000
DTEND;TZID=Europe/Berlin:20241210T220000
DTSTAMP:20260421T154750
CREATED:20241109T173229Z
LAST-MODIFIED:20241109T173229Z
UID:718-1733853600-1733868000@wurzeltrieb.de
SUMMARY:AdventWanderung
DESCRIPTION:So schee staad war´s\, bist du as redn ogfanga host. A bissl losn und a bissl schmausn\, staad und in a Ruah woin ma unser AdventWanderung gestalten. Moi wirklich an staadn Advent  dalebn? Hean wir de Nussein krachn\, de Soatn schwingan\, seng wia da Punsch dampft und die Leid noch und noch ruhig werdn und zam singan oder a Gschichterl verzähln.\nSo viel werd sei im Advent\, drum gibts scho jetzt die Möglichkeit\, dir Dienstag den 10.12.24 a überraschende AdventWanderung einzutragen und di anzumelden.\nOrt: Überraschung (wird kurzfristig verraten)\nProgramm: Überraschung (wenn du was einbringen magst\, gerne Melden wir freuen uns und sagens a ned weiter! 😉\nANMELDUNG: Bitte per Mail (info@wurzeltrieb.de) anmelden\, damit Du weitere Infos bekommst. Gerne schreiben wie fit ungefähr du bist\, damit wir einen passenden Ort wählen können. Wenn du dich einbringen magst\, schreib bitte gern einfach kurz was und wie 🙂
URL:https://wurzeltrieb.de/veranstaltung/adventwanderung/
LOCATION:Berchtesgaden\, Germany
END:VEVENT
BEGIN:VEVENT
DTSTART;TZID=Europe/Berlin:20241114T183000
DTEND;TZID=Europe/Berlin:20241114T223000
DTSTAMP:20260421T154750
CREATED:20241017T180056Z
LAST-MODIFIED:20241017T181038Z
UID:709-1731609000-1731623400@wurzeltrieb.de
SUMMARY:8. Open Stage im Bauerntheater Berchtesgaden
DESCRIPTION:Im November werds schee langsam stad\,\nmanchem Menschen werds dahoam scho fad.\nDeshalb lädt der WurzelTrieb euch wieder ein\, bei der nächsten Open Stage dabei zu sein! Ob zum Dichten\, Tanzen\, weinen\, singen\, oder die Zeit im Publikum verbringen.\nHerreinspaziert\, aber nicht in den Wiener Prater –\nWir sehen uns am 14.11.\, ab 18:30\, im Berchtesgadener Bauerntheater! \nDu hast Lust\, deine Kunst auf der Bühne zu teilen oder Bilder auszustellen? Einfach deinen Namen und Vorhaben an info@wurzeltrieb.de mailen! \nFür Speis und Trank\, gilt der Wirtin vom Bauerntheater der Dank… \nEintritt ist frei\, vielleicht ist trotzdem eine kleine Spende dabei? \nAuf ein weiteres Wurzeltreiben\, bei dem schöne Erinnerungen uns im Herzen bleiben. \nEuer WurzelTrieb – Kollektiv 🌱
URL:https://wurzeltrieb.de/veranstaltung/8-open-stage-im-bauerntheater-berchtesgaden/
LOCATION:Berchtesgadener Bauerntheater Franziskanerplatz 2\, Franziskanerplatz 2\, Berchtesgaden\, Germany
END:VEVENT
BEGIN:VEVENT
DTSTART;TZID=Europe/Berlin:20240728T100000
DTEND;TZID=Europe/Berlin:20240728T170000
DTSTAMP:20260421T154750
CREATED:20240703T183025Z
LAST-MODIFIED:20240703T183256Z
UID:673-1722160800-1722186000@wurzeltrieb.de
SUMMARY:WurzelTrieb goes Schornbad
DESCRIPTION:Wir laden euch ein zum Bewegen\, Plantschen\, Jamen\, Schnitzen!\n10:00 – 12:00 Uhr: Bodies in Space mit Silvia Oggioni:\nWir werden das Bewusstsein durch einige Ideen aus dem Yoga\, der Meditation und dem spielerischen Austausch in der Gruppe durch Bewegung und Körper entwickeln.\n12:00 – 17:00 Uhr: Open Dance Jam mit Workshops:\nIm Anschluss veranstalten wir einen „Open Dance“\, indem musikalische Klänge eines DJs mit Live-Musik kombiniert wird. Dies schafft eine einzigartige Atmosphäre\, die zur Improvisation und zum freien Ausdruck einlädt. Die Tanzfläche wird zur Bühne\, auf der die Besucher ihre Emotionen und ihre Kreativität zum Ausdruck bringen können. Gerne können die Teilnehmenden Instrumente mitbringen. Das Event basiert auf Spendenbasis und ohne Anmeldung.\n\nNachmittags Workshops/Schnitzen: Hat wer Lust\, Zeit einen (Schnitz)workshop zu geben? Meld dich gerne bei uns 🙂\n\nUm 17:00 Uhr\, zum Ausklang der Veranstaltung\, wird das Kollektiv zum Rathaus in Unterstein wandern\, um dem Konzert des Trios „Dreiklang“ zu lauschen. Hier kann sich gerne jede teilnehmende Person anschließen.
URL:https://wurzeltrieb.de/veranstaltung/wurzeltrieb-goes-schornbad/
LOCATION:Schornbad Schönau am Königsee\, Schornstraße 7\, Schönau am Königsee\, Bayern\, Deutschland
END:VEVENT
BEGIN:VEVENT
DTSTART;TZID=Europe/Berlin:20240718T183000
DTEND;TZID=Europe/Berlin:20240718T233000
DTSTAMP:20260421T154750
CREATED:20240703T182031Z
LAST-MODIFIED:20240703T183649Z
UID:670-1721327400-1721345400@wurzeltrieb.de
SUMMARY:WurzelTrieb goes Ahornkaser
DESCRIPTION:Wir laden euch herzlich ein zu einem Abend am Ahornkaser am Rossfeld\, wo ihr lauschen\, hören\, essen\, sehen\, tanzen\, trinken und singen könnt! Konkret haben wir folgende 4 Programmpunkte:\n\n18.30 – 19.15 Uhr: Performance „Zersetzession“\nLena & Gregor & Hanni zeigen Halb-Fertiges! Wir machen uns auf die Suche nach der Zersetzession des Vaterlandes. Eine Performance aus Tanz und Musik. Nach der Performance ist die Möglichkeit zum Austausch: Was habt ihr für Fragen? Was ist bei euch angekommen? Was habt ihr allgemein für ein Feedback?\nBitte seid da pünktlich\, wenn ihr dabei sein wollt 🙂 Es wäre für uns angenehm\, wenn ihr euch für diesen Teil anmeldet\, dann können wir Stühle etc. vorbereiten. Ist aber kein muss 😉\n19.45 – 21.00 Uhr: Konzerte von honeylane und InBloom\nAb 19:45 geben die Bands honeylane und In Bloom Konzerte zum Tanz in den Sonnenuntergang.\n21:00 – 23:00 Uhr: Gemeinsames Singen und Geschichten lesen\nDanach wollen wir mit Euch gemeinsam Singen und Gschichtn lesn. Hod wer a Idee was ma zam singa woin oder mogst du wos vorlesen? Schreib uns gern oder nimm dei Gschicht / Liadl mit!\nErst\, wenn ihr nach 18 Uhr! die Maut bezahlt und im Ahornkaser mind. 20 € konsumiert habt\, bekommt ihr die Maut rückerstattet vom Ahornkaser.
URL:https://wurzeltrieb.de/veranstaltung/wurzeltrieb-goes-ahornkaser/
LOCATION:Ahornkaser\, Purtschellerstraße 5\, Berchtesgaden\, Bayern\, 83471\, Deutschland
END:VEVENT
END:VCALENDAR